BEGIN:VCALENDAR
VERSION:2.0
PRODID:-//Татары Москвы и Московской области - Москва Татарская - ECPv6.15.20//NONSGML v1.0//EN
CALSCALE:GREGORIAN
METHOD:PUBLISH
X-WR-CALNAME:Татары Москвы и Московской области - Москва Татарская
X-ORIGINAL-URL:http://moskvatatar.ru
X-WR-CALDESC:Мероприятия для Татары Москвы и Московской области - Москва Татарская
REFRESH-INTERVAL;VALUE=DURATION:PT1H
X-Robots-Tag:noindex
X-PUBLISHED-TTL:PT1H
BEGIN:VTIMEZONE
TZID:Europe/Moscow
BEGIN:STANDARD
TZOFFSETFROM:+0300
TZOFFSETTO:+0300
TZNAME:MSK
DTSTART:21020101T000000
END:STANDARD
END:VTIMEZONE
BEGIN:VEVENT
DTSTART;TZID=Europe/Moscow:21030801T000000
DTEND;TZID=Europe/Moscow:21030801T000000
DTSTAMP:20260419T173335
CREATED:20210129T131156Z
LAST-MODIFIED:20210317T101138Z
UID:2713-4215369600-4215369600@moskvatatar.ru
SUMMARY:Инкыйраз
DESCRIPTION:1 августа 2103 года — «Инкыйраз» — полное исчезновение татар как народа\, предсказанное Гаязом Исхаки в его антиутопии «Исчезновение через 200 лет»\, написанной в 1903 году. \n\n\n\n\n\n\n\n\n\n\nПоделиться:
URL:http://moskvatatar.ru/event/inkyjraz/
CATEGORIES:Инкыйраз
ATTACH;FMTTYPE=image/jpeg:http://moskvatatar.ru/wp-content/uploads/2021/01/gayaz-ishaki-inkyjraz.jpg
END:VEVENT
END:VCALENDAR